BEGIN:VCALENDAR
VERSION:2.0
PRODID:icalendar-ruby
CALSCALE:GREGORIAN
METHOD:PUBLISH
BEGIN:VEVENT
DTSTAMP:20260422T155751Z
UID:5-402311@iblva.com
DTSTART:20261101T153000Z
DTEND:20261101T163000Z
CLASS:PUBLIC
CREATED:20260422T113710
DESCRIPTION:Domingo - Servicio de Adoración
LAST-MODIFIED:20260422T113710
LOCATION:
SUMMARY:Servicio de Adoración
URL;VALUE=URI:https://iblva.com/events/servicio-de-adoracion/2026-11-01
END:VEVENT
END:VCALENDAR
