BEGIN:VCALENDAR
VERSION:2.0
PRODID:icalendar-ruby
CALSCALE:GREGORIAN
METHOD:PUBLISH
BEGIN:VEVENT
DTSTAMP:20260422T142850Z
UID:5-402049@iblva.com
DTSTART:20261025T143000Z
DTEND:20261025T153000Z
CLASS:PUBLIC
CREATED:20260422T084154
DESCRIPTION:Domingo - Servicio de Adoración
LAST-MODIFIED:20260422T084154
LOCATION:
SUMMARY:Servicio de Adoración
URL;VALUE=URI:https://iblva.com/events/servicio-de-adoracion/2026-10-25
END:VEVENT
END:VCALENDAR
