BEGIN:VCALENDAR
VERSION:2.0
PRODID:icalendar-ruby
CALSCALE:GREGORIAN
METHOD:PUBLISH
BEGIN:VEVENT
DTSTAMP:20260422T111220Z
UID:5-401786@iblva.com
DTSTART:20261011T143000Z
DTEND:20261011T153000Z
CLASS:PUBLIC
CREATED:20260421T213343
DESCRIPTION:Domingo - Servicio de Adoración
LAST-MODIFIED:20260421T213343
LOCATION:
SUMMARY:Servicio de Adoración
URL;VALUE=URI:https://iblva.com/events/servicio-de-adoracion/2026-10-11
END:VEVENT
END:VCALENDAR
