BEGIN:VCALENDAR
VERSION:2.0
PRODID:icalendar-ruby
CALSCALE:GREGORIAN
METHOD:PUBLISH
BEGIN:VEVENT
DTSTAMP:20260420T073151Z
UID:5-398390@iblva.com
DTSTART:20260920T143000Z
DTEND:20260920T153000Z
CLASS:PUBLIC
CREATED:20260420T001050
DESCRIPTION:Domingo - Servicio de Adoración
LAST-MODIFIED:20260420T001050
LOCATION:
SUMMARY:Servicio de Adoración
URL;VALUE=URI:https://iblva.com/events/servicio-de-adoracion/2026-09-20
END:VEVENT
END:VCALENDAR
